BEGIN:VCALENDAR
VERSION:2.0
PRODID:-//eventon.com NONSGML v1.0//EN
CALSCALE:GREGORIAN
METHOD:PUBLISH
BEGIN:VEVENT
UID:69e8bd3aedab3
DTSTAMP:20260422T122114Z
DTSTART:20230325T060000Z
DTEND:20230325T105000Z
LOCATION:
SUMMARY:Kingdom Encounter with Apostle Tamrat Tarekegn
DESCRIPTION:Apostle Tamrat Tarekegn moves in words of knowledge and prophet
 ic accuracy that are phenomenal and bring great inspiration and faith to th
 ose he ministers to.\nhttps://hawkesbaychristianevents.nz/events/kingdom-en
 counter-with-apostle-tamrat-tarekegn/
URL:https://hawkesbaychristianevents.nz/events/kingdom-encounter-with-apostle-tamrat-tarekegn/
END:VEVENT
END:VCALENDAR